BEGIN:VCALENDAR
VERSION:2.0
PRODID:-//XHOPE - ECPv6.15.20//NONSGML v1.0//EN
CALSCALE:GREGORIAN
METHOD:PUBLISH
X-WR-CALNAME:XHOPE
X-ORIGINAL-URL:https://xhope.church
X-WR-CALDESC:Veranstaltungen für XHOPE
REFRESH-INTERVAL;VALUE=DURATION:PT1H
X-Robots-Tag:noindex
X-PUBLISHED-TTL:PT1H
BEGIN:VTIMEZONE
TZID:Europe/Berlin
BEGIN:DAYLIGHT
TZOFFSETFROM:+0100
TZOFFSETTO:+0200
TZNAME:CEST
DTSTART:20250330T010000
END:DAYLIGHT
BEGIN:STANDARD
TZOFFSETFROM:+0200
TZOFFSETTO:+0100
TZNAME:CET
DTSTART:20251026T010000
END:STANDARD
BEGIN:DAYLIGHT
TZOFFSETFROM:+0100
TZOFFSETTO:+0200
TZNAME:CEST
DTSTART:20260329T010000
END:DAYLIGHT
BEGIN:STANDARD
TZOFFSETFROM:+0200
TZOFFSETTO:+0100
TZNAME:CET
DTSTART:20261025T010000
END:STANDARD
BEGIN:DAYLIGHT
TZOFFSETFROM:+0100
TZOFFSETTO:+0200
TZNAME:CEST
DTSTART:20270328T010000
END:DAYLIGHT
BEGIN:STANDARD
TZOFFSETFROM:+0200
TZOFFSETTO:+0100
TZNAME:CET
DTSTART:20271031T010000
END:STANDARD
END:VTIMEZONE
BEGIN:VEVENT
DTSTART;TZID=Europe/Berlin:20260510T114500
DTEND;TZID=Europe/Berlin:20260510T140000
DTSTAMP:20260425T141257
CREATED:20260423T113659Z
LAST-MODIFIED:20260423T113700Z
UID:10001040-1778413500-1778421600@xhope.church
SUMMARY:Picknick after Church (Grillen nach dem Gottesdienst im XHOPE Garten)
DESCRIPTION:Im Anschluss an den Gottesdienst laden wir herzlich zu guter Gemeinschaft ein (Grillen\, See\, Spielen etc.). Komm vorbei\, bleib noch ein bisschen und genieß die Zeit miteinander! \nAm 10.05.: Grillen nach dem Gottesdienst im XHOPE Garten (Grillfleisch\, Getränke\, Teller und Besteck bitte selbst mitbringen)
URL:https://xhope.church/event/picknick-after-church-2/
LOCATION:XHOPE Campus
CATEGORIES:Specials
ATTACH;FMTTYPE=image/png:https://xhope.church/wp-content/uploads/2026/04/2026-04-22-Flyer-Picknick-after-Church-1.png
ORGANIZER;CN="XHOPE e.V.":MAILTO:info@xhope.de / Kinder Basar: basar@xhope.de
END:VEVENT
BEGIN:VEVENT
DTSTART;TZID=Europe/Berlin:20260712T114500
DTEND;TZID=Europe/Berlin:20260712T140000
DTSTAMP:20260425T141257
CREATED:20260422T105552Z
LAST-MODIFIED:20260423T113630Z
UID:10001041-1783856700-1783864800@xhope.church
SUMMARY:Picknick after Church
DESCRIPTION:Im Anschluss an den Gottesdienst laden wir herzlich zu guter Gemeinschaft ein (Grillen\, See\, Spielen etc.). Komm vorbei\, bleib noch ein bisschen und genieß die Zeit miteinander! \nAm 10.05.: Grillen nach dem Gottesdienst im XHOPE Garten (Grillfleisch\, Getränke\, Teller und Besteck bitte selbst mitbringen)
URL:https://xhope.church/event/picknick-after-church/2026-07-12/
LOCATION:XHOPE Campus
CATEGORIES:Specials
ATTACH;FMTTYPE=image/png:https://xhope.church/wp-content/uploads/2026/04/2026-04-22-Flyer-Picknick-after-Church-1.png
ORGANIZER;CN="XHOPE e.V.":MAILTO:info@xhope.de / Kinder Basar: basar@xhope.de
END:VEVENT
BEGIN:VEVENT
DTSTART;TZID=Europe/Berlin:20260913T114500
DTEND;TZID=Europe/Berlin:20260913T140000
DTSTAMP:20260425T141257
CREATED:20260422T105552Z
LAST-MODIFIED:20260423T113630Z
UID:10001042-1789299900-1789308000@xhope.church
SUMMARY:Picknick after Church
DESCRIPTION:Im Anschluss an den Gottesdienst laden wir herzlich zu guter Gemeinschaft ein (Grillen\, See\, Spielen etc.). Komm vorbei\, bleib noch ein bisschen und genieß die Zeit miteinander! \nAm 10.05.: Grillen nach dem Gottesdienst im XHOPE Garten (Grillfleisch\, Getränke\, Teller und Besteck bitte selbst mitbringen)
URL:https://xhope.church/event/picknick-after-church/2026-09-13/
LOCATION:XHOPE Campus
CATEGORIES:Specials
ATTACH;FMTTYPE=image/png:https://xhope.church/wp-content/uploads/2026/04/2026-04-22-Flyer-Picknick-after-Church-1.png
ORGANIZER;CN="XHOPE e.V.":MAILTO:info@xhope.de / Kinder Basar: basar@xhope.de
END:VEVENT
END:VCALENDAR