BEGIN:VCALENDAR
VERSION:2.0
PRODID:-//XHOPE - ECPv6.15.20//NONSGML v1.0//EN
CALSCALE:GREGORIAN
METHOD:PUBLISH
X-WR-CALNAME:XHOPE
X-ORIGINAL-URL:https://xhope.church
X-WR-CALDESC:Veranstaltungen für XHOPE
REFRESH-INTERVAL;VALUE=DURATION:PT1H
X-Robots-Tag:noindex
X-PUBLISHED-TTL:PT1H
BEGIN:VTIMEZONE
TZID:Europe/Berlin
BEGIN:DAYLIGHT
TZOFFSETFROM:+0100
TZOFFSETTO:+0200
TZNAME:CEST
DTSTART:20250330T010000
END:DAYLIGHT
BEGIN:STANDARD
TZOFFSETFROM:+0200
TZOFFSETTO:+0100
TZNAME:CET
DTSTART:20251026T010000
END:STANDARD
BEGIN:DAYLIGHT
TZOFFSETFROM:+0100
TZOFFSETTO:+0200
TZNAME:CEST
DTSTART:20260329T010000
END:DAYLIGHT
BEGIN:STANDARD
TZOFFSETFROM:+0200
TZOFFSETTO:+0100
TZNAME:CET
DTSTART:20261025T010000
END:STANDARD
BEGIN:DAYLIGHT
TZOFFSETFROM:+0100
TZOFFSETTO:+0200
TZNAME:CEST
DTSTART:20270328T010000
END:DAYLIGHT
BEGIN:STANDARD
TZOFFSETFROM:+0200
TZOFFSETTO:+0100
TZNAME:CET
DTSTART:20271031T010000
END:STANDARD
END:VTIMEZONE
BEGIN:VEVENT
DTSTART;TZID=Europe/Berlin:20260421T193000
DTEND;TZID=Europe/Berlin:20260421T210000
DTSTAMP:20260421T230015
CREATED:20260319T100905Z
LAST-MODIFIED:20260319T101332Z
UID:10001023-1776799800-1776805200@xhope.church
SUMMARY:Zündung - Glaubensgrundkurs
DESCRIPTION:Feurig werden – Feurig bleiben\nIn diesem Kurs bekommst Du in 11 Sessions ein starkes Glaubensfundament für Dein Leben mit Jesus Christus! Dabei erwarten Dich folgende\, spannende Themen: \nGott kennenlernen und ewiges Leben empfangen (14.04.) \nDas neue Leben in Christus (21.04.) \nDie Wassertaufe (28.04.) \nDie Gabe des Heiligen Geistes (05.05.) \nDas Wort Gottes (12.05.) \nDas Gebet des Gerechten (19.05.) \nLobpreis und Anbetung (26.05.) \nDie Kirche – Der Leib Christi (02.06.) \nSiegreich leben (09.06.) \nBiblischer Umgang mit Finanzen (16.06.) \nEvangelisation (23.06.) \nImmer 19:30 -21:00 Uhr vor Ort / Online (Der Zugangslink für die Onlineteilnahme wird nach der Anmeldung bzw. vorm Start des Kurses zugeschickt) \nZur Anmeldung nutze bitte das untere Formular: \n\n                    Anmeldeformular Zündung 2026        \n            \n                \n                    Notify                \n            \n            \n                \n            \n        \n                \n        VornameNachnameEmailDer Schutz Deiner Daten hat für uns höchste Priorität. Wir werden die von Dir hier angegebenen Daten digital verarbeiten und nur für den mit dem Formular verbundenen Zweck verarbeiteten. Über unseren Umgang mit personenbezogenen Daten informieren wir in unserer Datenschutzerklärung (Link zur betreffenden Stelle einfügen). Mehr zu Deinen Rechten\, Widerrufs- und Beschwerdemöglichkeiten findest Du in unserer Datenschutzerklärung. Anmeldung abschicken
URL:https://xhope.church/event/zuendung-glaubensgrundkurs/2026-04-21/
LOCATION:XHOPE Campus
ATTACH;FMTTYPE=image/png:https://xhope.church/wp-content/uploads/2026/03/Flyer-Zuendung-2026-19-03.png
ORGANIZER;CN="XHOPE e.V.":MAILTO:info@xhope.de / Kinder Basar: basar@xhope.de
END:VEVENT
END:VCALENDAR