BEGIN:VCALENDAR
VERSION:2.0
PRODID:-//XHOPE - ECPv6.15.20//NONSGML v1.0//EN
CALSCALE:GREGORIAN
METHOD:PUBLISH
X-WR-CALNAME:XHOPE
X-ORIGINAL-URL:https://xhope.church
X-WR-CALDESC:Veranstaltungen für XHOPE
REFRESH-INTERVAL;VALUE=DURATION:PT1H
X-Robots-Tag:noindex
X-PUBLISHED-TTL:PT1H
BEGIN:VTIMEZONE
TZID:Europe/Berlin
BEGIN:DAYLIGHT
TZOFFSETFROM:+0100
TZOFFSETTO:+0200
TZNAME:CEST
DTSTART:20250330T010000
END:DAYLIGHT
BEGIN:STANDARD
TZOFFSETFROM:+0200
TZOFFSETTO:+0100
TZNAME:CET
DTSTART:20251026T010000
END:STANDARD
BEGIN:DAYLIGHT
TZOFFSETFROM:+0100
TZOFFSETTO:+0200
TZNAME:CEST
DTSTART:20260329T010000
END:DAYLIGHT
BEGIN:STANDARD
TZOFFSETFROM:+0200
TZOFFSETTO:+0100
TZNAME:CET
DTSTART:20261025T010000
END:STANDARD
BEGIN:DAYLIGHT
TZOFFSETFROM:+0100
TZOFFSETTO:+0200
TZNAME:CEST
DTSTART:20270328T010000
END:DAYLIGHT
BEGIN:STANDARD
TZOFFSETFROM:+0200
TZOFFSETTO:+0100
TZNAME:CET
DTSTART:20271031T010000
END:STANDARD
END:VTIMEZONE
BEGIN:VEVENT
DTSTART;TZID=Europe/Berlin:20260428T193000
DTEND;TZID=Europe/Berlin:20260428T210000
DTSTAMP:20260425T160107
CREATED:20260319T100905Z
LAST-MODIFIED:20260319T101332Z
UID:10001024-1777404600-1777410000@xhope.church
SUMMARY:Zündung - Glaubensgrundkurs
DESCRIPTION:Feurig werden – Feurig bleiben\nIn diesem Kurs bekommst Du in 11 Sessions ein starkes Glaubensfundament für Dein Leben mit Jesus Christus! Dabei erwarten Dich folgende\, spannende Themen: \nGott kennenlernen und ewiges Leben empfangen (14.04.) \nDas neue Leben in Christus (21.04.) \nDie Wassertaufe (28.04.) \nDie Gabe des Heiligen Geistes (05.05.) \nDas Wort Gottes (12.05.) \nDas Gebet des Gerechten (19.05.) \nLobpreis und Anbetung (26.05.) \nDie Kirche – Der Leib Christi (02.06.) \nSiegreich leben (09.06.) \nBiblischer Umgang mit Finanzen (16.06.) \nEvangelisation (23.06.) \nImmer 19:30 -21:00 Uhr vor Ort / Online (Der Zugangslink für die Onlineteilnahme wird nach der Anmeldung bzw. vorm Start des Kurses zugeschickt) \nZur Anmeldung nutze bitte das untere Formular: \n\n                    Anmeldeformular Zündung 2026        \n            \n                \n                    Subscribe                \n            \n            \n                \n            \n        \n                \n        VornameNachnameEmailDer Schutz Deiner Daten hat für uns höchste Priorität. Wir werden die von Dir hier angegebenen Daten digital verarbeiten und nur für den mit dem Formular verbundenen Zweck verarbeiteten. Über unseren Umgang mit personenbezogenen Daten informieren wir in unserer Datenschutzerklärung (Link zur betreffenden Stelle einfügen). Mehr zu Deinen Rechten\, Widerrufs- und Beschwerdemöglichkeiten findest Du in unserer Datenschutzerklärung. Anmeldung abschicken
URL:https://xhope.church/event/zuendung-glaubensgrundkurs/2026-04-28/
LOCATION:XHOPE Campus
ATTACH;FMTTYPE=image/png:https://xhope.church/wp-content/uploads/2026/03/Flyer-Zuendung-2026-19-03.png
ORGANIZER;CN="XHOPE e.V.":MAILTO:info@xhope.de / Kinder Basar: basar@xhope.de
END:VEVENT
BEGIN:VEVENT
DTSTART;TZID=Europe/Berlin:20260505T193000
DTEND;TZID=Europe/Berlin:20260505T210000
DTSTAMP:20260425T160107
CREATED:20260319T100905Z
LAST-MODIFIED:20260319T101332Z
UID:10001025-1778009400-1778014800@xhope.church
SUMMARY:Zündung - Glaubensgrundkurs
DESCRIPTION:Feurig werden – Feurig bleiben\nIn diesem Kurs bekommst Du in 11 Sessions ein starkes Glaubensfundament für Dein Leben mit Jesus Christus! Dabei erwarten Dich folgende\, spannende Themen: \nGott kennenlernen und ewiges Leben empfangen (14.04.) \nDas neue Leben in Christus (21.04.) \nDie Wassertaufe (28.04.) \nDie Gabe des Heiligen Geistes (05.05.) \nDas Wort Gottes (12.05.) \nDas Gebet des Gerechten (19.05.) \nLobpreis und Anbetung (26.05.) \nDie Kirche – Der Leib Christi (02.06.) \nSiegreich leben (09.06.) \nBiblischer Umgang mit Finanzen (16.06.) \nEvangelisation (23.06.) \nImmer 19:30 -21:00 Uhr vor Ort / Online (Der Zugangslink für die Onlineteilnahme wird nach der Anmeldung bzw. vorm Start des Kurses zugeschickt) \nZur Anmeldung nutze bitte das untere Formular: \n\n                    Anmeldeformular Zündung 2026        \n            \n                \n                    Subscribe                \n            \n            \n                \n            \n        \n                \n        VornameNachnameEmailDer Schutz Deiner Daten hat für uns höchste Priorität. Wir werden die von Dir hier angegebenen Daten digital verarbeiten und nur für den mit dem Formular verbundenen Zweck verarbeiteten. Über unseren Umgang mit personenbezogenen Daten informieren wir in unserer Datenschutzerklärung (Link zur betreffenden Stelle einfügen). Mehr zu Deinen Rechten\, Widerrufs- und Beschwerdemöglichkeiten findest Du in unserer Datenschutzerklärung. Anmeldung abschicken
URL:https://xhope.church/event/zuendung-glaubensgrundkurs/2026-05-05/
LOCATION:XHOPE Campus
ATTACH;FMTTYPE=image/png:https://xhope.church/wp-content/uploads/2026/03/Flyer-Zuendung-2026-19-03.png
ORGANIZER;CN="XHOPE e.V.":MAILTO:info@xhope.de / Kinder Basar: basar@xhope.de
END:VEVENT
BEGIN:VEVENT
DTSTART;TZID=Europe/Berlin:20260510T114500
DTEND;TZID=Europe/Berlin:20260510T140000
DTSTAMP:20260425T160107
CREATED:20260423T113659Z
LAST-MODIFIED:20260423T113700Z
UID:10001040-1778413500-1778421600@xhope.church
SUMMARY:Picknick after Church (Grillen nach dem Gottesdienst im XHOPE Garten)
DESCRIPTION:Im Anschluss an den Gottesdienst laden wir herzlich zu guter Gemeinschaft ein (Grillen\, See\, Spielen etc.). Komm vorbei\, bleib noch ein bisschen und genieß die Zeit miteinander! \nAm 10.05.: Grillen nach dem Gottesdienst im XHOPE Garten (Grillfleisch\, Getränke\, Teller und Besteck bitte selbst mitbringen)
URL:https://xhope.church/event/picknick-after-church-2/
LOCATION:XHOPE Campus
CATEGORIES:Specials
ATTACH;FMTTYPE=image/png:https://xhope.church/wp-content/uploads/2026/04/2026-04-22-Flyer-Picknick-after-Church-1.png
ORGANIZER;CN="XHOPE e.V.":MAILTO:info@xhope.de / Kinder Basar: basar@xhope.de
END:VEVENT
BEGIN:VEVENT
DTSTART;TZID=Europe/Berlin:20260512T193000
DTEND;TZID=Europe/Berlin:20260512T210000
DTSTAMP:20260425T160107
CREATED:20260319T100905Z
LAST-MODIFIED:20260319T101332Z
UID:10001026-1778614200-1778619600@xhope.church
SUMMARY:Zündung - Glaubensgrundkurs
DESCRIPTION:Feurig werden – Feurig bleiben\nIn diesem Kurs bekommst Du in 11 Sessions ein starkes Glaubensfundament für Dein Leben mit Jesus Christus! Dabei erwarten Dich folgende\, spannende Themen: \nGott kennenlernen und ewiges Leben empfangen (14.04.) \nDas neue Leben in Christus (21.04.) \nDie Wassertaufe (28.04.) \nDie Gabe des Heiligen Geistes (05.05.) \nDas Wort Gottes (12.05.) \nDas Gebet des Gerechten (19.05.) \nLobpreis und Anbetung (26.05.) \nDie Kirche – Der Leib Christi (02.06.) \nSiegreich leben (09.06.) \nBiblischer Umgang mit Finanzen (16.06.) \nEvangelisation (23.06.) \nImmer 19:30 -21:00 Uhr vor Ort / Online (Der Zugangslink für die Onlineteilnahme wird nach der Anmeldung bzw. vorm Start des Kurses zugeschickt) \nZur Anmeldung nutze bitte das untere Formular: \n\n                    Anmeldeformular Zündung 2026        \n            \n                \n                    Updates                \n            \n            \n                \n            \n        \n                \n        VornameNachnameEmailDer Schutz Deiner Daten hat für uns höchste Priorität. Wir werden die von Dir hier angegebenen Daten digital verarbeiten und nur für den mit dem Formular verbundenen Zweck verarbeiteten. Über unseren Umgang mit personenbezogenen Daten informieren wir in unserer Datenschutzerklärung (Link zur betreffenden Stelle einfügen). Mehr zu Deinen Rechten\, Widerrufs- und Beschwerdemöglichkeiten findest Du in unserer Datenschutzerklärung. Anmeldung abschicken
URL:https://xhope.church/event/zuendung-glaubensgrundkurs/2026-05-12/
LOCATION:XHOPE Campus
ATTACH;FMTTYPE=image/png:https://xhope.church/wp-content/uploads/2026/03/Flyer-Zuendung-2026-19-03.png
ORGANIZER;CN="XHOPE e.V.":MAILTO:info@xhope.de / Kinder Basar: basar@xhope.de
END:VEVENT
BEGIN:VEVENT
DTSTART;TZID=Europe/Berlin:20260519T193000
DTEND;TZID=Europe/Berlin:20260519T210000
DTSTAMP:20260425T160107
CREATED:20260319T100905Z
LAST-MODIFIED:20260319T101332Z
UID:10001027-1779219000-1779224400@xhope.church
SUMMARY:Zündung - Glaubensgrundkurs
DESCRIPTION:Feurig werden – Feurig bleiben\nIn diesem Kurs bekommst Du in 11 Sessions ein starkes Glaubensfundament für Dein Leben mit Jesus Christus! Dabei erwarten Dich folgende\, spannende Themen: \nGott kennenlernen und ewiges Leben empfangen (14.04.) \nDas neue Leben in Christus (21.04.) \nDie Wassertaufe (28.04.) \nDie Gabe des Heiligen Geistes (05.05.) \nDas Wort Gottes (12.05.) \nDas Gebet des Gerechten (19.05.) \nLobpreis und Anbetung (26.05.) \nDie Kirche – Der Leib Christi (02.06.) \nSiegreich leben (09.06.) \nBiblischer Umgang mit Finanzen (16.06.) \nEvangelisation (23.06.) \nImmer 19:30 -21:00 Uhr vor Ort / Online (Der Zugangslink für die Onlineteilnahme wird nach der Anmeldung bzw. vorm Start des Kurses zugeschickt) \nZur Anmeldung nutze bitte das untere Formular: \n\n                    Anmeldeformular Zündung 2026        \n            \n                \n                    Updates                \n            \n            \n                \n            \n        \n                \n        VornameNachnameEmailDer Schutz Deiner Daten hat für uns höchste Priorität. Wir werden die von Dir hier angegebenen Daten digital verarbeiten und nur für den mit dem Formular verbundenen Zweck verarbeiteten. Über unseren Umgang mit personenbezogenen Daten informieren wir in unserer Datenschutzerklärung (Link zur betreffenden Stelle einfügen). Mehr zu Deinen Rechten\, Widerrufs- und Beschwerdemöglichkeiten findest Du in unserer Datenschutzerklärung. Anmeldung abschicken
URL:https://xhope.church/event/zuendung-glaubensgrundkurs/2026-05-19/
LOCATION:XHOPE Campus
ATTACH;FMTTYPE=image/png:https://xhope.church/wp-content/uploads/2026/03/Flyer-Zuendung-2026-19-03.png
ORGANIZER;CN="XHOPE e.V.":MAILTO:info@xhope.de / Kinder Basar: basar@xhope.de
END:VEVENT
BEGIN:VEVENT
DTSTART;TZID=Europe/Berlin:20260526T193000
DTEND;TZID=Europe/Berlin:20260526T210000
DTSTAMP:20260425T160107
CREATED:20260319T100905Z
LAST-MODIFIED:20260319T101332Z
UID:10001028-1779823800-1779829200@xhope.church
SUMMARY:Zündung - Glaubensgrundkurs
DESCRIPTION:Feurig werden – Feurig bleiben\nIn diesem Kurs bekommst Du in 11 Sessions ein starkes Glaubensfundament für Dein Leben mit Jesus Christus! Dabei erwarten Dich folgende\, spannende Themen: \nGott kennenlernen und ewiges Leben empfangen (14.04.) \nDas neue Leben in Christus (21.04.) \nDie Wassertaufe (28.04.) \nDie Gabe des Heiligen Geistes (05.05.) \nDas Wort Gottes (12.05.) \nDas Gebet des Gerechten (19.05.) \nLobpreis und Anbetung (26.05.) \nDie Kirche – Der Leib Christi (02.06.) \nSiegreich leben (09.06.) \nBiblischer Umgang mit Finanzen (16.06.) \nEvangelisation (23.06.) \nImmer 19:30 -21:00 Uhr vor Ort / Online (Der Zugangslink für die Onlineteilnahme wird nach der Anmeldung bzw. vorm Start des Kurses zugeschickt) \nZur Anmeldung nutze bitte das untere Formular: \n\n                    Anmeldeformular Zündung 2026        \n            \n                \n                    Updates                \n            \n            \n                \n            \n        \n                \n        VornameNachnameEmailDer Schutz Deiner Daten hat für uns höchste Priorität. Wir werden die von Dir hier angegebenen Daten digital verarbeiten und nur für den mit dem Formular verbundenen Zweck verarbeiteten. Über unseren Umgang mit personenbezogenen Daten informieren wir in unserer Datenschutzerklärung (Link zur betreffenden Stelle einfügen). Mehr zu Deinen Rechten\, Widerrufs- und Beschwerdemöglichkeiten findest Du in unserer Datenschutzerklärung. Anmeldung abschicken
URL:https://xhope.church/event/zuendung-glaubensgrundkurs/2026-05-26/
LOCATION:XHOPE Campus
ATTACH;FMTTYPE=image/png:https://xhope.church/wp-content/uploads/2026/03/Flyer-Zuendung-2026-19-03.png
ORGANIZER;CN="XHOPE e.V.":MAILTO:info@xhope.de / Kinder Basar: basar@xhope.de
END:VEVENT
BEGIN:VEVENT
DTSTART;TZID=Europe/Berlin:20260602T193000
DTEND;TZID=Europe/Berlin:20260602T210000
DTSTAMP:20260425T160107
CREATED:20260319T100905Z
LAST-MODIFIED:20260319T101332Z
UID:10001029-1780428600-1780434000@xhope.church
SUMMARY:Zündung - Glaubensgrundkurs
DESCRIPTION:Feurig werden – Feurig bleiben\nIn diesem Kurs bekommst Du in 11 Sessions ein starkes Glaubensfundament für Dein Leben mit Jesus Christus! Dabei erwarten Dich folgende\, spannende Themen: \nGott kennenlernen und ewiges Leben empfangen (14.04.) \nDas neue Leben in Christus (21.04.) \nDie Wassertaufe (28.04.) \nDie Gabe des Heiligen Geistes (05.05.) \nDas Wort Gottes (12.05.) \nDas Gebet des Gerechten (19.05.) \nLobpreis und Anbetung (26.05.) \nDie Kirche – Der Leib Christi (02.06.) \nSiegreich leben (09.06.) \nBiblischer Umgang mit Finanzen (16.06.) \nEvangelisation (23.06.) \nImmer 19:30 -21:00 Uhr vor Ort / Online (Der Zugangslink für die Onlineteilnahme wird nach der Anmeldung bzw. vorm Start des Kurses zugeschickt) \nZur Anmeldung nutze bitte das untere Formular: \n\n                    Anmeldeformular Zündung 2026        \n            \n                \n                    Subscribe                \n            \n            \n                \n            \n        \n                \n        VornameNachnameEmailDer Schutz Deiner Daten hat für uns höchste Priorität. Wir werden die von Dir hier angegebenen Daten digital verarbeiten und nur für den mit dem Formular verbundenen Zweck verarbeiteten. Über unseren Umgang mit personenbezogenen Daten informieren wir in unserer Datenschutzerklärung (Link zur betreffenden Stelle einfügen). Mehr zu Deinen Rechten\, Widerrufs- und Beschwerdemöglichkeiten findest Du in unserer Datenschutzerklärung. Anmeldung abschicken
URL:https://xhope.church/event/zuendung-glaubensgrundkurs/2026-06-02/
LOCATION:XHOPE Campus
ATTACH;FMTTYPE=image/png:https://xhope.church/wp-content/uploads/2026/03/Flyer-Zuendung-2026-19-03.png
ORGANIZER;CN="XHOPE e.V.":MAILTO:info@xhope.de / Kinder Basar: basar@xhope.de
END:VEVENT
BEGIN:VEVENT
DTSTART;TZID=Europe/Berlin:20260609T193000
DTEND;TZID=Europe/Berlin:20260609T210000
DTSTAMP:20260425T160107
CREATED:20260319T100905Z
LAST-MODIFIED:20260319T101332Z
UID:10001030-1781033400-1781038800@xhope.church
SUMMARY:Zündung - Glaubensgrundkurs
DESCRIPTION:Feurig werden – Feurig bleiben\nIn diesem Kurs bekommst Du in 11 Sessions ein starkes Glaubensfundament für Dein Leben mit Jesus Christus! Dabei erwarten Dich folgende\, spannende Themen: \nGott kennenlernen und ewiges Leben empfangen (14.04.) \nDas neue Leben in Christus (21.04.) \nDie Wassertaufe (28.04.) \nDie Gabe des Heiligen Geistes (05.05.) \nDas Wort Gottes (12.05.) \nDas Gebet des Gerechten (19.05.) \nLobpreis und Anbetung (26.05.) \nDie Kirche – Der Leib Christi (02.06.) \nSiegreich leben (09.06.) \nBiblischer Umgang mit Finanzen (16.06.) \nEvangelisation (23.06.) \nImmer 19:30 -21:00 Uhr vor Ort / Online (Der Zugangslink für die Onlineteilnahme wird nach der Anmeldung bzw. vorm Start des Kurses zugeschickt) \nZur Anmeldung nutze bitte das untere Formular: \n\n                    Anmeldeformular Zündung 2026        \n            \n                \n                    Updates                \n            \n            \n                \n            \n        \n                \n        VornameNachnameEmailDer Schutz Deiner Daten hat für uns höchste Priorität. Wir werden die von Dir hier angegebenen Daten digital verarbeiten und nur für den mit dem Formular verbundenen Zweck verarbeiteten. Über unseren Umgang mit personenbezogenen Daten informieren wir in unserer Datenschutzerklärung (Link zur betreffenden Stelle einfügen). Mehr zu Deinen Rechten\, Widerrufs- und Beschwerdemöglichkeiten findest Du in unserer Datenschutzerklärung. Anmeldung abschicken
URL:https://xhope.church/event/zuendung-glaubensgrundkurs/2026-06-09/
LOCATION:XHOPE Campus
ATTACH;FMTTYPE=image/png:https://xhope.church/wp-content/uploads/2026/03/Flyer-Zuendung-2026-19-03.png
ORGANIZER;CN="XHOPE e.V.":MAILTO:info@xhope.de / Kinder Basar: basar@xhope.de
END:VEVENT
BEGIN:VEVENT
DTSTART;TZID=Europe/Berlin:20260616T193000
DTEND;TZID=Europe/Berlin:20260616T210000
DTSTAMP:20260425T160107
CREATED:20260319T100905Z
LAST-MODIFIED:20260319T101332Z
UID:10001031-1781638200-1781643600@xhope.church
SUMMARY:Zündung - Glaubensgrundkurs
DESCRIPTION:Feurig werden – Feurig bleiben\nIn diesem Kurs bekommst Du in 11 Sessions ein starkes Glaubensfundament für Dein Leben mit Jesus Christus! Dabei erwarten Dich folgende\, spannende Themen: \nGott kennenlernen und ewiges Leben empfangen (14.04.) \nDas neue Leben in Christus (21.04.) \nDie Wassertaufe (28.04.) \nDie Gabe des Heiligen Geistes (05.05.) \nDas Wort Gottes (12.05.) \nDas Gebet des Gerechten (19.05.) \nLobpreis und Anbetung (26.05.) \nDie Kirche – Der Leib Christi (02.06.) \nSiegreich leben (09.06.) \nBiblischer Umgang mit Finanzen (16.06.) \nEvangelisation (23.06.) \nImmer 19:30 -21:00 Uhr vor Ort / Online (Der Zugangslink für die Onlineteilnahme wird nach der Anmeldung bzw. vorm Start des Kurses zugeschickt) \nZur Anmeldung nutze bitte das untere Formular: \n\n                    Anmeldeformular Zündung 2026        \n            \n                \n                    Notify                \n            \n            \n                \n            \n        \n                \n        VornameNachnameEmailDer Schutz Deiner Daten hat für uns höchste Priorität. Wir werden die von Dir hier angegebenen Daten digital verarbeiten und nur für den mit dem Formular verbundenen Zweck verarbeiteten. Über unseren Umgang mit personenbezogenen Daten informieren wir in unserer Datenschutzerklärung (Link zur betreffenden Stelle einfügen). Mehr zu Deinen Rechten\, Widerrufs- und Beschwerdemöglichkeiten findest Du in unserer Datenschutzerklärung. Anmeldung abschicken
URL:https://xhope.church/event/zuendung-glaubensgrundkurs/2026-06-16/
LOCATION:XHOPE Campus
ATTACH;FMTTYPE=image/png:https://xhope.church/wp-content/uploads/2026/03/Flyer-Zuendung-2026-19-03.png
ORGANIZER;CN="XHOPE e.V.":MAILTO:info@xhope.de / Kinder Basar: basar@xhope.de
END:VEVENT
BEGIN:VEVENT
DTSTART;TZID=Europe/Berlin:20260623T193000
DTEND;TZID=Europe/Berlin:20260623T210000
DTSTAMP:20260425T160107
CREATED:20260319T100905Z
LAST-MODIFIED:20260319T101332Z
UID:10001032-1782243000-1782248400@xhope.church
SUMMARY:Zündung - Glaubensgrundkurs
DESCRIPTION:Feurig werden – Feurig bleiben\nIn diesem Kurs bekommst Du in 11 Sessions ein starkes Glaubensfundament für Dein Leben mit Jesus Christus! Dabei erwarten Dich folgende\, spannende Themen: \nGott kennenlernen und ewiges Leben empfangen (14.04.) \nDas neue Leben in Christus (21.04.) \nDie Wassertaufe (28.04.) \nDie Gabe des Heiligen Geistes (05.05.) \nDas Wort Gottes (12.05.) \nDas Gebet des Gerechten (19.05.) \nLobpreis und Anbetung (26.05.) \nDie Kirche – Der Leib Christi (02.06.) \nSiegreich leben (09.06.) \nBiblischer Umgang mit Finanzen (16.06.) \nEvangelisation (23.06.) \nImmer 19:30 -21:00 Uhr vor Ort / Online (Der Zugangslink für die Onlineteilnahme wird nach der Anmeldung bzw. vorm Start des Kurses zugeschickt) \nZur Anmeldung nutze bitte das untere Formular: \n\n                    Anmeldeformular Zündung 2026        \n            \n                \n                    Subscribe                \n            \n            \n                \n            \n        \n                \n        VornameNachnameEmailDer Schutz Deiner Daten hat für uns höchste Priorität. Wir werden die von Dir hier angegebenen Daten digital verarbeiten und nur für den mit dem Formular verbundenen Zweck verarbeiteten. Über unseren Umgang mit personenbezogenen Daten informieren wir in unserer Datenschutzerklärung (Link zur betreffenden Stelle einfügen). Mehr zu Deinen Rechten\, Widerrufs- und Beschwerdemöglichkeiten findest Du in unserer Datenschutzerklärung. Anmeldung abschicken
URL:https://xhope.church/event/zuendung-glaubensgrundkurs/2026-06-23/
LOCATION:XHOPE Campus
ATTACH;FMTTYPE=image/png:https://xhope.church/wp-content/uploads/2026/03/Flyer-Zuendung-2026-19-03.png
ORGANIZER;CN="XHOPE e.V.":MAILTO:info@xhope.de / Kinder Basar: basar@xhope.de
END:VEVENT
BEGIN:VEVENT
DTSTART;TZID=Europe/Berlin:20260712T114500
DTEND;TZID=Europe/Berlin:20260712T140000
DTSTAMP:20260425T160107
CREATED:20260422T105552Z
LAST-MODIFIED:20260423T113630Z
UID:10001041-1783856700-1783864800@xhope.church
SUMMARY:Picknick after Church
DESCRIPTION:Im Anschluss an den Gottesdienst laden wir herzlich zu guter Gemeinschaft ein (Grillen\, See\, Spielen etc.). Komm vorbei\, bleib noch ein bisschen und genieß die Zeit miteinander! \nAm 10.05.: Grillen nach dem Gottesdienst im XHOPE Garten (Grillfleisch\, Getränke\, Teller und Besteck bitte selbst mitbringen)
URL:https://xhope.church/event/picknick-after-church/2026-07-12/
LOCATION:XHOPE Campus
CATEGORIES:Specials
ATTACH;FMTTYPE=image/png:https://xhope.church/wp-content/uploads/2026/04/2026-04-22-Flyer-Picknick-after-Church-1.png
ORGANIZER;CN="XHOPE e.V.":MAILTO:info@xhope.de / Kinder Basar: basar@xhope.de
END:VEVENT
BEGIN:VEVENT
DTSTART;TZID=Europe/Berlin:20260913T114500
DTEND;TZID=Europe/Berlin:20260913T140000
DTSTAMP:20260425T160107
CREATED:20260422T105552Z
LAST-MODIFIED:20260423T113630Z
UID:10001042-1789299900-1789308000@xhope.church
SUMMARY:Picknick after Church
DESCRIPTION:Im Anschluss an den Gottesdienst laden wir herzlich zu guter Gemeinschaft ein (Grillen\, See\, Spielen etc.). Komm vorbei\, bleib noch ein bisschen und genieß die Zeit miteinander! \nAm 10.05.: Grillen nach dem Gottesdienst im XHOPE Garten (Grillfleisch\, Getränke\, Teller und Besteck bitte selbst mitbringen)
URL:https://xhope.church/event/picknick-after-church/2026-09-13/
LOCATION:XHOPE Campus
CATEGORIES:Specials
ATTACH;FMTTYPE=image/png:https://xhope.church/wp-content/uploads/2026/04/2026-04-22-Flyer-Picknick-after-Church-1.png
ORGANIZER;CN="XHOPE e.V.":MAILTO:info@xhope.de / Kinder Basar: basar@xhope.de
END:VEVENT
END:VCALENDAR