BEGIN:VCALENDAR
VERSION:2.0
PRODID:-//XHOPE - ECPv6.15.20//NONSGML v1.0//EN
CALSCALE:GREGORIAN
METHOD:PUBLISH
X-ORIGINAL-URL:https://xhope.church
X-WR-CALDESC:Veranstaltungen für XHOPE
REFRESH-INTERVAL;VALUE=DURATION:PT1H
X-Robots-Tag:noindex
X-PUBLISHED-TTL:PT1H
BEGIN:VTIMEZONE
TZID:Europe/Berlin
BEGIN:DAYLIGHT
TZOFFSETFROM:+0100
TZOFFSETTO:+0200
TZNAME:CEST
DTSTART:20230326T010000
END:DAYLIGHT
BEGIN:STANDARD
TZOFFSETFROM:+0200
TZOFFSETTO:+0100
TZNAME:CET
DTSTART:20231029T010000
END:STANDARD
BEGIN:DAYLIGHT
TZOFFSETFROM:+0100
TZOFFSETTO:+0200
TZNAME:CEST
DTSTART:20240331T010000
END:DAYLIGHT
BEGIN:STANDARD
TZOFFSETFROM:+0200
TZOFFSETTO:+0100
TZNAME:CET
DTSTART:20241027T010000
END:STANDARD
BEGIN:DAYLIGHT
TZOFFSETFROM:+0100
TZOFFSETTO:+0200
TZNAME:CEST
DTSTART:20250330T010000
END:DAYLIGHT
BEGIN:STANDARD
TZOFFSETFROM:+0200
TZOFFSETTO:+0100
TZNAME:CET
DTSTART:20251026T010000
END:STANDARD
END:VTIMEZONE
BEGIN:VEVENT
DTSTART;TZID=Europe/Berlin:20240419T153000
DTEND;TZID=Europe/Berlin:20240421T133000
DTSTAMP:20260426T023335
CREATED:20240301T124946Z
LAST-MODIFIED:20240326T123721Z
UID:10000684-1713540600-1713706200@xhope.church
SUMMARY:LEGO Tage
DESCRIPTION:Baust du gerne mit LEGO®? \nDann komm und hilf uns\, aus unzählig vielen LEGO® eine grosse Stadt im XHOPE aufzubauen. Dazu werden wir Geschichten aus der Bibel hören\, singen und Spiele machen. Die Teilnahme ist kostenlos. Wir freuen uns auf Dich! \nWer? Kinder von 7 – 12 Jahren \nWann? 19.04. 15:30 – 19:00 Uhr \n20.04. 10:00 – 17:00 Uhr \n21.04. 09.30 – 13:30 Uhr \nAm Sonntag gibt es einen Familiengottesdienst mit Besichtigung der LEGO® Stadt. \n 
URL:https://xhope.church/event/legotage/
LOCATION:XHOPE Campus
CATEGORIES:Specials
ATTACH;FMTTYPE=image/png:https://xhope.church/wp-content/uploads/2024/03/LEGO-Tage-Newsletter.png
ORGANIZER;CN="XHOPE e.V.":MAILTO:info@xhope.de / Kinder Basar: basar@xhope.de
END:VEVENT
BEGIN:VEVENT
DTSTART;TZID=Europe/Berlin:20240309T093000
DTEND;TZID=Europe/Berlin:20240309T153000
DTSTAMP:20260426T023335
CREATED:20240110T125933Z
LAST-MODIFIED:20240110T130526Z
UID:10000674-1709976600-1709998200@xhope.church
SUMMARY:Heldenschmiede Training Day mit Finn Lucas van der Velde
DESCRIPTION:Über David heißt es\, dass er ein Herz nach dem Willen Gottes hatte. Wer will das nicht\, ein Herz\, an dem Gott Freude hat? Doch wie sieht das konkret aus? Im Rahmen dieses Training Days werden wir das Leben von König David tief studieren und praktisch umsetzbare Wahrheiten für unser Leben erkennen. Wir freuen uns\, dass Finn Lucas van der Velde als Sprecher bei uns zu Gast sein wird. Finn ist Pastor der Oase Kirche im wunderschönen Garmisch – Partenkirchen und Bibellehrer in der Schule der Erweckung in Füssen. Darüber hinaus ist er deutschlandweit als Sprecher unterwegs und hat einen YouTube Channel wo er über knackige theologische Fragen spricht. \nHier kannst du dir einige Teachings von Lucas anschauen: https://www.youtube.com/@FinnLucas/videos \nDie Teilnahme am Training Day ist kostenlos\, es wird im Laufe des Tages die Möglichkeit geben sich durch eine freiwillige Spende zu beteiligen. Für die Mittagspause bitten wir dich dir entweder selbst etwas zu Essen mitzubringen oder eine der Möglichkeiten im Umfeld zu nutzen- \nFür die bessere Planung erbitten wir eine kurze Anmeldung\, bitte nutze dazu folgendes Formular: \n\n                    Anmeldeformular Training Day Finn Lucas 03-09-2024        \n            \n                \n                    Subscribe                \n            \n            \n                \n            \n        \n                \n        VornameNachnameEmailDer Schutz Deiner Daten hat für uns höchste Priorität. Wir werden die von Dir hier angegebenen Daten digital verarbeiten und nur für den mit dem Formular verbundenen Zweck verarbeiteten. Über unseren Umgang mit personenbezogenen Daten informieren wir in unserer Datenschutzerklärung (Link zur betreffenden Stelle einfügen). Mehr zu Deinen Rechten\, Widerrufs- und Beschwerdemöglichkeiten findest Du in unserer Datenschutzerklärung. Anmeldung abschicken            \n            \n 
URL:https://xhope.church/event/heldenschmiede-training-day-mit-finn-lucas-van-der-velde/
LOCATION:XHOPE Campus
CATEGORIES:Specials
ATTACH;FMTTYPE=image/png:https://xhope.church/wp-content/uploads/2024/01/Training-Day-Finn-Lucas-03-09-2024.png
ORGANIZER;CN="XHOPE e.V.":MAILTO:info@xhope.de / Kinder Basar: basar@xhope.de
END:VEVENT
BEGIN:VEVENT
DTSTART;TZID=Europe/Berlin:20240210T093000
DTEND;TZID=Europe/Berlin:20240210T150000
DTSTAMP:20260426T023335
CREATED:20240109T155241Z
LAST-MODIFIED:20240110T094046Z
UID:10000673-1707557400-1707577200@xhope.church
SUMMARY:Heldenschmiede Training Day mit Ado Greve
DESCRIPTION:Seit vielen Jahren arbeitet Ado Greve für Open Doors\, dem weltweit bekannten überkonfessionellen Hilfswerk für Christen in Verfolgung.  Im Rahmen unserer Heldenschmiede wird Ado an diesem Tag Einblick geben in die Schicksale verfolgter Christen weltweit\, wird aufzeigen wie wir unseren Geschwistern beistehen können und was wir von ihnen lernen können. Wir sind davon überzeugt\, dass es so unbeschreiblich wichtig ist\, über den „eigenen Tellerrand“ hinauszublicken und uns damit konfrontieren zu lassen\, was es Menschen weltweit kostet\, sich zu Jesus Christus zu bekennen. Im Erkennen und Umarmen dieser herausfordernden Realität liegt\, so glauben wir\, ein großes Maß an Kraft und Segen. Wir laden dich herzlich ein\, an diesem Samstag mit dabei zu sein! \nHier findest du weitere Infos zu Open Doors: https://www.opendoors.de/ \nPredigten von Ado Greve: https://www.youtube.com/watch?v=Us4Pw5fkXYQ&t=200s&pp=ygUPYWRvIGdyZXZlIHhob3Bl \nhttps://www.youtube.com/watch?v=vwVjWxUYzSo&t=1476s \n  \nDie Teilnahme am Training Day ist kostenlos\, es wird im Laufe des Tages die Möglichkeit geben sich durch eine freiwillige Spende zu beteiligen. Für die Mittagspause bitten wir dich dir entweder selbst etwas zu Essen mitzubringen oder eine der Möglichkeiten im Umfeld zu nutzen- \nFür die bessere Planung erbitten wir eine kurze Anmeldung\, bitte nutze dazu folgendes Formular: \n\n                    Anmeldeformular Training Day Ado Greve 02-10-204        \n            \n                \n                    Contact                \n            \n            \n                \n            \n        \n                \n        VornameNachnameEmailDer Schutz Deiner Daten hat für uns höchste Priorität. Wir werden die von Dir hier angegebenen Daten digital verarbeiten und nur für den mit dem Formular verbundenen Zweck verarbeiteten. Über unseren Umgang mit personenbezogenen Daten informieren wir in unserer Datenschutzerklärung (Link zur betreffenden Stelle einfügen). Mehr zu Deinen Rechten\, Widerrufs- und Beschwerdemöglichkeiten findest Du in unserer Datenschutzerklärung. Anmeldung abschicken            \n            \n 
URL:https://xhope.church/event/heldenschmiede-training-day-mit-ado-greve/
LOCATION:XHOPE Campus
CATEGORIES:Specials
ATTACH;FMTTYPE=image/png:https://xhope.church/wp-content/uploads/2024/01/Training-Day-Ado-Greve-02-10-2024.png
ORGANIZER;CN="XHOPE e.V.":MAILTO:info@xhope.de / Kinder Basar: basar@xhope.de
END:VEVENT
END:VCALENDAR